BEGIN:VCALENDAR
VERSION:2.0
PRODID:icalendar-ruby
CALSCALE:GREGORIAN
METHOD:PUBLISH
BEGIN:VEVENT
DTSTAMP:20260420T160901Z
UID:87-501660@holycrosscalgary.org
DTSTART:20260523T010000Z
DTEND:20260523T030000Z
CLASS:PUBLIC
CREATED:20260417T091309
DESCRIPTION:
LAST-MODIFIED:20260417T091309
LOCATION:
SUMMARY:Blackbird Singing
URL;VALUE=URI:https://holycrosscalgary.org/events/blackbird-singing/2026-05
 -22
ATTACH;FILENAME=Blackbird larger font.png;FMTTYPE=image/png:https://dq5pwpg
 1q8ru0.cloudfront.net/2026/04/17/15/13/08/1d038e9a-8890-4f4c-afe0-1912fa0a
 3e06/Blackbird%20larger%20font.png
END:VEVENT
END:VCALENDAR
